BEGIN:VCALENDAR
PRODID:-//github.com/rianjs/ical.net//NONSGML ical.net 4.0//EN
VERSION:2.0
BEGIN:VEVENT
DESCRIPTION:Die Tour führt über Wittenförden\, Rosenow\, Schönfeld\, Cramo
 n mit Badestelle\, Gottmannsförde\, Warnitz\, Schwerin.\nhttps://touren-t
 ermine.adfc.de/radveranstaltung/197640-im-tal-der-stepenitz
DTEND:20260718T150000Z
DTSTAMP:20260421T153803Z
DTSTART:20260718T073000Z
LOCATION:Am Markt 14\, 19055 Schwerin
SEQUENCE:0
SUMMARY:Im Tal der Stepenitz
UID:33ad4119-9d83-47cd-bc64-79469451f803
URL:https://touren-termine.adfc.de/radveranstaltung/197640-im-tal-der-step
 enitz
END:VEVENT
END:VCALENDAR
