BEGIN:VCALENDAR
PRODID:-//github.com/rianjs/ical.net//NONSGML ical.net 4.0//EN
VERSION:2.0
BEGIN:VEVENT
DESCRIPTION:Gemeinsam erarbeiten wir\, wie mehr Sicherheit für Kinder und 
 Jugendliche im Hamburger Stadtverkehr erreicht werden kann.\nhttps://tour
 en-termine.adfc.de/radveranstaltung/188014-pg-schulwege-kinder-und-jugend
 mobilitat
DTEND:20260623T183000Z
DTSTAMP:20260420T232051Z
DTSTART:20260623T170000Z
LOCATION:Koppel 34-36\, 20099 Hamburg
SEQUENCE:0
SUMMARY:PG "Schulwege\, Kinder- und Jugendmobilität"
UID:3407664d-22d1-43d0-b94a-892e32c8cddb
URL:https://touren-termine.adfc.de/radveranstaltung/188014-pg-schulwege-ki
 nder-und-jugendmobilitat
END:VEVENT
END:VCALENDAR
