BEGIN:VCALENDAR
PRODID:-//github.com/rianjs/ical.net//NONSGML ical.net 4.0//EN
VERSION:2.0
BEGIN:VEVENT
DESCRIPTION:Dienstags & Donnerstags zwischen 18:00 und 20:00 Uhr kann dort
  jeder\, sein Fahrrad eigenverantwortlich selbst reparieren - wenn nötig 
 unter Anleitung oder Mithilfe unsere Werkstattteams\nhttps://touren-termi
 ne.adfc.de/radveranstaltung/175961-selbsthilfewerkstatt-ist-geoffnet
DTEND:20260402T180000Z
DTSTAMP:20260424T151651Z
DTSTART:20260402T160000Z
LOCATION:Weinweg 2\, 93049 Regensburg
SEQUENCE:0
SUMMARY:Selbsthilfewerkstatt ist geöffnet
UID:ac65fca7-7f81-45ab-94d0-7f0deb268ed0
URL:https://touren-termine.adfc.de/radveranstaltung/175961-selbsthilfewerk
 statt-ist-geoffnet
END:VEVENT
END:VCALENDAR
