BEGIN:VCALENDAR
PRODID:-//github.com/rianjs/ical.net//NONSGML ical.net 4.0//EN
VERSION:2.0
BEGIN:VEVENT
DESCRIPTION:Beim Globetrotter Freiluft Testival am Fühlinger See könnt Ihr
  Euer Fahrrad kostenlos codieren lassen!\nhttps://touren-termine.adfc.de/
 radveranstaltung/164295-kostenlose-adfcfahrradcodierung-am-fuhlinger-see
DTEND:20250427T160000Z
DTSTAMP:20260421T100935Z
DTSTART:20250427T080000Z
LOCATION:Blackfoot Beach\, Fühlinger See\, 50769 Köln
SEQUENCE:0
SUMMARY:Kostenlose ADFC-Fahrradcodierung am Fühlinger See
UID:92ba8009-2e99-4203-865f-c559a6062c71
URL:https://touren-termine.adfc.de/radveranstaltung/164295-kostenlose-adfc
 fahrradcodierung-am-fuhlinger-see
END:VEVENT
END:VCALENDAR
