BEGIN:VCALENDAR
PRODID:-//github.com/rianjs/ical.net//NONSGML ical.net 4.0//EN
VERSION:2.0
BEGIN:VEVENT
DESCRIPTION:Wir helfen und geben Tipps zur Reparatur\, Pflege und Wartung 
 eurer Fahrräder\nhttps://touren-termine.adfc.de/radveranstaltung/131593-r
 adreparaturcafe
DTEND:20241012T130000Z
DTSTAMP:20260421T221934Z
DTSTART:20241012T090000Z
LOCATION:WIWOZU\, Südring 23\, 45525 Hattingen
SEQUENCE:0
SUMMARY:RadReparaturCafé
UID:d1eb01bd-3a88-435e-b264-31556a1662bc
URL:https://touren-termine.adfc.de/radveranstaltung/131593-radreparaturcafe
END:VEVENT
END:VCALENDAR
