BEGIN:VCALENDAR
PRODID:-//github.com/rianjs/ical.net//NONSGML ical.net 4.0//EN
VERSION:2.0
BEGIN:VEVENT
DESCRIPTION:Feierabendtouren in die nähere Umgebung\, Distanz 20 - 30 km\,
  oft mit Einkehr.\nhttps://touren-termine.adfc.de/radveranstaltung/152363
 -gilchinger-feierabendtour
DTEND:20250620T180000Z
DTSTAMP:20260425T145624Z
DTSTART:20250620T150000Z
LOCATION:Marktplatz\, 82205 Gilching
SEQUENCE:0
SUMMARY:Gilchinger Feierabendtour
UID:535ae79c-783a-4fe8-a5e1-8c8b76f5ffc1
URL:https://touren-termine.adfc.de/radveranstaltung/152363-gilchinger-feie
 rabendtour
END:VEVENT
END:VCALENDAR
