BEGIN:VCALENDAR
PRODID:-//github.com/rianjs/ical.net//NONSGML ical.net 4.0//EN
VERSION:2.0
BEGIN:VEVENT
DESCRIPTION:30 - 35 km\nhttps://touren-termine.adfc.de/radveranstaltung/14
 2587-kurztour
DTEND:20250611T180000Z
DTSTAMP:20260423T105831Z
DTSTART:20250611T160000Z
LOCATION:Rathaus\, Fuhrberger Straße 3\, 30938 Burgwedel
SEQUENCE:0
SUMMARY:Kurztour
UID:eda12af6-a999-4047-8778-5a63b1ecb2c2
URL:https://touren-termine.adfc.de/radveranstaltung/142587-kurztour
END:VEVENT
END:VCALENDAR
