BEGIN:VCALENDAR
PRODID:-//github.com/rianjs/ical.net//NONSGML ical.net 4.0//EN
VERSION:2.0
BEGIN:VEVENT
DESCRIPTION:Heute geht es über das Kallenbachtal nach Löhnberg und über de
 n Ulmtalradweg zurück nach Herborn.\nhttps://touren-termine.adfc.de/radve
 ranstaltung/123481-durch-das-kallenbachtal
DTEND:20240727T160000Z
DTSTAMP:20260424T170536Z
DTSTART:20240727T080000Z
LOCATION:Marktbrunnen\, Fußgängerzone\, 35745 Herborn
SEQUENCE:0
SUMMARY:Durch das Kallenbachtal
UID:c6550585-c988-428a-bcb9-bc65729e46da
URL:https://touren-termine.adfc.de/radveranstaltung/123481-durch-das-kalle
 nbachtal
END:VEVENT
END:VCALENDAR
