BEGIN:VCALENDAR
PRODID:-//github.com/rianjs/ical.net//NONSGML ical.net 4.0//EN
VERSION:2.0
BEGIN:VEVENT
DESCRIPTION:Es geht in die wellige Landschaft nördlich von Celle\, durch F
 eld und Wald\, auf festen und manchmal weniger festen Wegen.\nhttps://tou
 ren-termine.adfc.de/radveranstaltung/126739-tagestour-in-die-sommerliche-
 sudheide
DTEND:20240616T140000Z
DTSTAMP:20260421T184801Z
DTSTART:20240616T080000Z
LOCATION:Herzogin-Eleonore-Allee / Am Teich im Französischen Garten\, 2922
 1 Celle
SEQUENCE:0
SUMMARY:Tagestour in die sommerliche Südheide
UID:c14a9a6e-4412-450f-91ad-813cae6c873b
URL:https://touren-termine.adfc.de/radveranstaltung/126739-tagestour-in-di
 e-sommerliche-sudheide
END:VEVENT
END:VCALENDAR
