BEGIN:VCALENDAR
PRODID:-//github.com/rianjs/ical.net//NONSGML ical.net 4.0//EN
VERSION:2.0
BEGIN:VEVENT
DESCRIPTION:Unsere Geschäftsstelle ist für alle Anliegen und offenen Frage
 n geöffnet.\nhttps://touren-termine.adfc.de/radveranstaltung/183793-offnu
 ngszeit-unserer-geschaftsstelle
DTEND:20260220T170000Z
DTSTAMP:20260421T115927Z
DTSTART:20260220T150000Z
LOCATION:Essen (Innenstadt)\, ADFC Essen Geschäftsstelle\, Rottstraße 5\, 
 45127 Essen
SEQUENCE:0
SUMMARY:Öffnungszeit unserer Geschäftsstelle
UID:1d64f214-e872-4df7-9c08-6e3792dd40eb
URL:https://touren-termine.adfc.de/radveranstaltung/183793-offnungszeit-un
 serer-geschaftsstelle
END:VEVENT
END:VCALENDAR
