BEGIN:VCALENDAR
PRODID:-//github.com/rianjs/ical.net//NONSGML ical.net 4.0//EN
VERSION:2.0
BEGIN:VEVENT
DESCRIPTION:Eine herbstliche Radtour durch die hügelige Landschaft der Win
 gst und Lamstedter Börde. \nMitnahme in Hechthausen und Lamstedt möglich.
  Bitte um Mitteilung.\nhttps://touren-termine.adfc.de/radveranstaltung/15
 4759-wingstbordetour
DTEND:20251011T140000Z
DTSTAMP:20260421T053056Z
DTSTART:20251011T090000Z
LOCATION:Bahnhofstraße\, 21789 Landkreis Cuxhaven
SEQUENCE:0
SUMMARY:Wingst-Börde-Tour
UID:85f18b37-fb6d-4b13-a27b-4cafb663ea37
URL:https://touren-termine.adfc.de/radveranstaltung/154759-wingstbordetour
END:VEVENT
END:VCALENDAR
