BEGIN:VCALENDAR
PRODID:-//github.com/rianjs/ical.net//NONSGML ical.net 4.0//EN
VERSION:2.0
BEGIN:VEVENT
DESCRIPTION:Gemütliche Tour für E-Biker und fitte Biobiker*innen. \nAnmeld
 ung bitte bis zum 26.09.2024\nhttps://touren-termine.adfc.de/radveranstal
 tung/113764-picknicktour-zu-den-wilhelmssteinen
DTEND:20240929T140000Z
DTSTAMP:20260424T170626Z
DTSTART:20240929T080000Z
LOCATION:Fußgängerzone\, Marktbrunnen\, 35745 Herborn
SEQUENCE:0
SUMMARY:Picknicktour zu den Wilhelmssteinen
UID:544805a5-9ab2-4502-90c4-9bd35c2f7d29
URL:https://touren-termine.adfc.de/radveranstaltung/113764-picknicktour-zu
 -den-wilhelmssteinen
END:VEVENT
END:VCALENDAR
