BEGIN:VCALENDAR
PRODID:-//github.com/rianjs/ical.net//NONSGML ical.net 4.0//EN
VERSION:2.0
BEGIN:VEVENT
DESCRIPTION:Jeden Montag findet morgens eine Radtour statt.\nhttps://toure
 n-termine.adfc.de/radveranstaltung/122497-montag-morgen-tour
DTEND:20240212T110000Z
DTSTAMP:20260423T201624Z
DTSTART:20240212T090000Z
LOCATION:In der Ahe 29\, 27356 Rotenburg
SEQUENCE:0
SUMMARY:Montag Morgen Tour
UID:3b677ef3-6b0e-44af-96e3-c4d377ee9517
URL:https://touren-termine.adfc.de/radveranstaltung/122497-montag-morgen-t
 our
END:VEVENT
END:VCALENDAR
