BEGIN:VCALENDAR
PRODID:-//github.com/rianjs/ical.net//NONSGML ical.net 4.0//EN
VERSION:2.0
BEGIN:VEVENT
DESCRIPTION:Eine anspruchsvolle Tour für Pedelec-Fahrer und Radfahrer mit 
 guter Kondition.  Bei schlechtem Wetter oder Regen findet die Tour nicht 
 statt.\nhttps://touren-termine.adfc.de/radveranstaltung/169220-nachmittag
 stour-ab-refrath
DTEND:20250828T160000Z
DTSTAMP:20260423T151801Z
DTSTART:20250828T133000Z
LOCATION:Peter-Bürling-Platz\, 51427 Bergisch Gladbach
SEQUENCE:0
SUMMARY:Nachmittagstour ab Refrath
UID:68638b19-2f83-41fc-ba3b-ad1ca4d9a317
URL:https://touren-termine.adfc.de/radveranstaltung/169220-nachmittagstour
 -ab-refrath
END:VEVENT
END:VCALENDAR
