BEGIN:VCALENDAR
PRODID:-//github.com/rianjs/ical.net//NONSGML ical.net 4.0//EN
VERSION:2.0
BEGIN:VEVENT
DESCRIPTION:Wir treffen uns meist jeden 1. Donnerstag eines Monats (außer 
 August) um 19:00 Uhr im Gasthaus Belfort in Kaufbeuren\, Mindelheimer Str
 . 35. Fahrrad-Codierung möglich.\nhttps://touren-termine.adfc.de/radveran
 staltung/174110-adfc-radlerstammtisch
DTEND:20261001T190000Z
DTSTAMP:20260419T155800Z
DTSTART:20261001T170000Z
LOCATION:Gasthaus Belfort\, Mindelheimer Straße 35\, 87600 Kaufbeuren
SEQUENCE:0
SUMMARY:ADFC Radler-Stammtisch
UID:eab5c341-5ac8-43cf-9a12-b7cc43515002
URL:https://touren-termine.adfc.de/radveranstaltung/174110-adfc-radlerstam
 mtisch
END:VEVENT
END:VCALENDAR
