BEGIN:VCALENDAR
PRODID:-//github.com/rianjs/ical.net//NONSGML ical.net 4.0//EN
VERSION:2.0
BEGIN:VEVENT
DESCRIPTION:Der Umbau der Handjerystraße ist abgeschlossen\, die letzten V
 erkehrszeichen sind aufgestellt! Wir können in der Handjerystraße die ers
 te Fahrradstraße im Bezirk einweihen.\nhttps://touren-termine.adfc.de/rad
 veranstaltung/135878-handjerystrasse-anradeln-03072024-um-1730-uhr
DTEND:20240703T170000Z
DTSTAMP:20260424T020746Z
DTSTART:20240703T153000Z
LOCATION:Handjerystraße/Ecke Bundesallee\, 12161 Berlin
SEQUENCE:0
SUMMARY:Handjerystraße Anradeln 03.07.2024 um 17:30 Uhr
UID:ad343027-b793-4174-847a-5d03233a199f
URL:https://touren-termine.adfc.de/radveranstaltung/135878-handjerystrasse
 -anradeln-03072024-um-1730-uhr
END:VEVENT
END:VCALENDAR
