BEGIN:VCALENDAR
PRODID:-//github.com/rianjs/ical.net//NONSGML ical.net 4.0//EN
VERSION:2.0
BEGIN:VEVENT
DESCRIPTION:Die langsamen und gemütlichen Ausfahrten führen durch die Regi
 on rund um Hechthausen.\nhttps://touren-termine.adfc.de/radveranstaltung/
 176114-nachmittagstour-in-hechthausen
DTEND:20260302T150000Z
DTSTAMP:20260421T114934Z
DTSTART:20260302T123000Z
LOCATION:Engelstüvchen\, Mühlenstraße 2\, 21755 Landkreis Cuxhaven
SEQUENCE:0
SUMMARY:Nachmittagstour in Hechthausen
UID:ae66377a-5679-4791-8079-726329951a97
URL:https://touren-termine.adfc.de/radveranstaltung/176114-nachmittagstour
 -in-hechthausen
END:VEVENT
END:VCALENDAR
