BEGIN:VCALENDAR
PRODID:-//github.com/rianjs/ical.net//NONSGML ical.net 4.0//EN
VERSION:2.0
BEGIN:VEVENT
DESCRIPTION:Wir treffen uns zum lockeren Austausch in der Radmosphäre. Kom
 men dürfen alle\, egal ob Mitglied oder nicht.\nhttps://touren-termine.ad
 fc.de/radveranstaltung/147818-offener-radlertreff-des-adfc-essen
DTEND:20250115T170000Z
DTSTAMP:20260421T100926Z
DTSTART:20250115T170000Z
LOCATION:Essen (Altendorf)\, Niederfeldsee (Radmosphäre)\, 45143 Essen
SEQUENCE:0
SUMMARY:Offener Radlertreff des ADFC Essen
UID:d5804f0c-e2d4-4622-993e-ecfcabd6d8b8
URL:https://touren-termine.adfc.de/radveranstaltung/147818-offener-radlert
 reff-des-adfc-essen
END:VEVENT
END:VCALENDAR
