BEGIN:VCALENDAR
PRODID:-//github.com/rianjs/ical.net//NONSGML ical.net 4.0//EN
VERSION:2.0
BEGIN:VEVENT
DESCRIPTION:Wöchentliche freitags Radtouren der ADFC Ortsgruppe Hattingen\
 nhttps://touren-termine.adfc.de/radveranstaltung/190026-auf-ins-wochenend
 e
DTEND:20260717T160000Z
DTSTAMP:20260421T204144Z
DTSTART:20260717T130000Z
LOCATION:Parkplatz Holschentor\, Talstraße 8\, 45525 Hattingen
SEQUENCE:0
SUMMARY:Auf ins Wochenende
UID:e6bf4028-786b-4730-a526-598b15eb9829
URL:https://touren-termine.adfc.de/radveranstaltung/190026-auf-ins-wochene
 nde
END:VEVENT
END:VCALENDAR
