BEGIN:VCALENDAR
PRODID:-//github.com/rianjs/ical.net//NONSGML ical.net 4.0//EN
VERSION:2.0
BEGIN:VEVENT
DESCRIPTION:Einblicke in das Schulwesen des 19. Jahrhunderts . Bitte Rucks
 ackverpflegung und Getränke mitnehmen.\nEintritt in das Museum 4.00 € pro
  Pers.\nhttps://touren-termine.adfc.de/radveranstaltung/129399-tagestour-
 zum-schulmuseum-nach-steinhorst
DTEND:20240714T150000Z
DTSTAMP:20260421T114904Z
DTSTART:20240714T080000Z
LOCATION:Herzogin-Eleonore-Allee / Am Teich im Französischen Garten\, 2922
 1 Celle
SEQUENCE:0
SUMMARY:Tagestour zum Schulmuseum nach Steinhorst
UID:38f84661-2a0d-4768-a557-e9d44069fcbf
URL:https://touren-termine.adfc.de/radveranstaltung/129399-tagestour-zum-s
 chulmuseum-nach-steinhorst
END:VEVENT
END:VCALENDAR
