BEGIN:VCALENDAR
PRODID:-//github.com/rianjs/ical.net//NONSGML ical.net 4.0//EN
VERSION:2.0
BEGIN:VEVENT
DESCRIPTION:Feierabendtouren in die nähere Umgebung\, Distanz 20 - 30 km\,
  oft mit Einkehr.\nhttps://touren-termine.adfc.de/radveranstaltung/187673
 -gilchinger-feierabendtour
DTEND:20260529T180000Z
DTSTAMP:20260425T145709Z
DTSTART:20260529T150000Z
LOCATION:Marktplatz\, 82205 Gilching
SEQUENCE:0
SUMMARY:Gilchinger Feierabendtour
UID:d3b5efeb-d9a2-4844-b135-15f91f985e6d
URL:https://touren-termine.adfc.de/radveranstaltung/187673-gilchinger-feie
 rabendtour
END:VEVENT
END:VCALENDAR
