BEGIN:VCALENDAR
PRODID:-//github.com/rianjs/ical.net//NONSGML ical.net 4.0//EN
VERSION:2.0
BEGIN:VEVENT
DESCRIPTION:Fahrradtour des ADFC Uelzen zum neuen Museum-Deutsche-Einheit 
 in Bad Bodenteich. Entlang des Elbe-Seiten-Kanals\, mit seiner eigenen Be
 deutung an der damaligen deutsch-deutschen Grenze.\nhttps://touren-termin
 e.adfc.de/radveranstaltung/130065-adfctour-museumdeutscheeinheit-bad-bode
 nteich
DTEND:20240525T170000Z
DTSTAMP:20260424T160540Z
DTSTART:20240525T110000Z
LOCATION:Herzogenplatz\, 29525 Uelzen
SEQUENCE:0
SUMMARY:ADFC-Tour Museum-Deutsche-Einheit Bad Bodenteich
UID:ab9c9373-2834-47fe-aa0c-5772bd4f0836
URL:https://touren-termine.adfc.de/radveranstaltung/130065-adfctour-museum
 deutscheeinheit-bad-bodenteich
END:VEVENT
END:VCALENDAR
