BEGIN:VCALENDAR
PRODID:-//github.com/rianjs/ical.net//NONSGML ical.net 4.0//EN
VERSION:2.0
BEGIN:VEVENT
DESCRIPTION:Immer mittwochs bis September. 40 km in 2 Stunden mit Pause(n)
 .\nTreffpunkt: 18 Uhr Fansteinraute im Borussia-Park\nhttps://touren-term
 ine.adfc.de/radveranstaltung/137508-adfcafterworksporttour-letzte-tour-in
 -2024
DTEND:20240925T180000Z
DTSTAMP:20260421T231335Z
DTSTART:20240925T160000Z
LOCATION:Fan-Raute am Borussia Park\, 41179 Mönchengladbach
SEQUENCE:0
SUMMARY:ADFC-Afterwork-Sporttour - letzte Tour in 2024
UID:351187df-5f3a-4ade-94fb-90c796bcf970
URL:https://touren-termine.adfc.de/radveranstaltung/137508-adfcafterworksp
 orttour-letzte-tour-in-2024
END:VEVENT
END:VCALENDAR
