BEGIN:VCALENDAR
PRODID:-//github.com/rianjs/ical.net//NONSGML ical.net 4.0//EN
VERSION:2.0
BEGIN:VEVENT
DESCRIPTION:Unterwegs halten wir auf mehreren Bio-Höfen\, die sich jeweils
  kurz vorstellen. MIt Harald Haun (Gasttourenleiter)\nhttps://touren-term
 ine.adfc.de/radveranstaltung/155955-biohofetour
DTEND:20250831T130000Z
DTSTAMP:20260421T235800Z
DTSTART:20250831T080000Z
LOCATION:Südenwall 19\, 59065 Hamm
SEQUENCE:0
SUMMARY:Biohöfe-Tour
UID:957a89f0-8e60-49c8-9e3a-9b36340abf9c
URL:https://touren-termine.adfc.de/radveranstaltung/155955-biohofetour
END:VEVENT
END:VCALENDAR
