BEGIN:VCALENDAR
PRODID:-//github.com/rianjs/ical.net//NONSGML ical.net 4.0//EN
VERSION:2.0
BEGIN:VEVENT
DESCRIPTION:Die Tour werden wir kurzfristig festlegen. Ab 19.30 ist dann S
 tammtisch in der Hammerhütte.\nhttps://touren-termine.adfc.de/radveransta
 ltung/107488-feierabendtour-ins-blaue-und-stammtisch
DTEND:20231003T180000Z
DTSTAMP:20260423T030610Z
DTSTART:20231003T160000Z
LOCATION:Jakob-Scheiner-Platz\, 57072 Siegen
SEQUENCE:0
SUMMARY:Feierabendtour ins Blaue und Stammtisch
UID:b26dcb1a-b2c7-413d-868e-4ab78484aa29
URL:https://touren-termine.adfc.de/radveranstaltung/107488-feierabendtour-
 ins-blaue-und-stammtisch
END:VEVENT
END:VCALENDAR
