BEGIN:VCALENDAR
PRODID:-//github.com/rianjs/ical.net//NONSGML ical.net 4.0//EN
VERSION:2.0
BEGIN:VEVENT
DESCRIPTION:NordRadWestfalen . . . . . nicht labern - machen!\nhttps://tou
 ren-termine.adfc.de/radveranstaltung/160966-fahrradsternfahrt-nrw-nach-du
 sseldorf
DTEND:20250504T160000Z
DTSTAMP:20260423T151928Z
DTSTART:20250504T093000Z
LOCATION:Matthias-Hoeren-Platz\, 41352 Korschenbroich
SEQUENCE:0
SUMMARY:Fahrrad-Sternfahrt NRW nach Düsseldorf
UID:feb93518-2a5a-4045-96f2-47522f804a39
URL:https://touren-termine.adfc.de/radveranstaltung/160966-fahrradsternfah
 rt-nrw-nach-dusseldorf
END:VEVENT
END:VCALENDAR
