BEGIN:VCALENDAR
PRODID:-//github.com/rianjs/ical.net//NONSGML ical.net 4.0//EN
VERSION:2.0
BEGIN:VEVENT
DESCRIPTION:Jeden Montag findet morgens eine Radtour statt.\nhttps://toure
 n-termine.adfc.de/radveranstaltung/117862-montag-morgen-tour
DTEND:20240129T110000Z
DTSTAMP:20260423T201300Z
DTSTART:20240129T090000Z
LOCATION:In der Ahe 29\, 27356 Rotenburg
SEQUENCE:0
SUMMARY:Montag Morgen Tour
UID:541a32c9-6af3-43fd-94f0-dfa9cac79589
URL:https://touren-termine.adfc.de/radveranstaltung/117862-montag-morgen-t
 our
END:VEVENT
END:VCALENDAR
