BEGIN:VCALENDAR
PRODID:-//github.com/rianjs/ical.net//NONSGML ical.net 4.0//EN
VERSION:2.0
BEGIN:VEVENT
DESCRIPTION:Durch die Felder und am Rhein entlang über die Rodenkirchener 
 Brücke in den "Äußeren Grüngürtel" im Kölner Süden. Einkehr in einem gemü
 tlichen Biergarten. Zurück über Immendorf u. Wesseling heimwärts\nhttps:/
 /touren-termine.adfc.de/radveranstaltung/130159-sonntagstour-in-den-grung
 urtel-von-koln
DTEND:20240421T140000Z
DTSTAMP:20260421T100935Z
DTSTART:20240421T090000Z
LOCATION:Rheidt\, kath Kirche (Hoher Rain 27)\, 53859 Niederkassel
SEQUENCE:0
SUMMARY:Sonntagstour in den Grüngürtel von Köln
UID:6e14d681-1d02-4e36-a9b1-550543154c20
URL:https://touren-termine.adfc.de/radveranstaltung/130159-sonntagstour-in
 -den-grungurtel-von-koln
END:VEVENT
END:VCALENDAR
