BEGIN:VCALENDAR
PRODID:-//github.com/rianjs/ical.net//NONSGML ical.net 4.0//EN
VERSION:2.0
BEGIN:VEVENT
DESCRIPTION:Radtour von Feuerbach über Gerlingen im Westen und Musberg im 
 Süden und ab Hedelfingen am Neckar und schließlich durch den Rosensteinpa
 rk zurück\nhttps://touren-termine.adfc.de/radveranstaltung/171793-rundkur
 s-im-sudwesten-von-feuerbach
DTEND:20251017T150000Z
DTSTAMP:20260424T143936Z
DTSTART:20251017T070000Z
LOCATION:Wiener Platz\, 70469 Stuttgart
SEQUENCE:0
SUMMARY:Rundkurs im Südwesten von Feuerbach
UID:ea61337b-761e-4d59-a9f5-c36528a61f32
URL:https://touren-termine.adfc.de/radveranstaltung/171793-rundkurs-im-sud
 westen-von-feuerbach
END:VEVENT
END:VCALENDAR
