BEGIN:VCALENDAR
PRODID:-//github.com/rianjs/ical.net//NONSGML ical.net 4.0//EN
VERSION:2.0
BEGIN:VEVENT
DESCRIPTION:Feierabendtouren in die nähere Umgebung\, Distanz 20 - 30 km\,
  oft mit Einkehr.\nhttps://touren-termine.adfc.de/radveranstaltung/152372
 -gilchinger-feierabendtour
DTEND:20250822T180000Z
DTSTAMP:20260425T145515Z
DTSTART:20250822T150000Z
LOCATION:Marktplatz\, 82205 Gilching
SEQUENCE:0
SUMMARY:Gilchinger Feierabendtour
UID:e2cf25e4-dad7-420c-b102-676f30da0fb9
URL:https://touren-termine.adfc.de/radveranstaltung/152372-gilchinger-feie
 rabendtour
END:VEVENT
END:VCALENDAR
