BEGIN:VCALENDAR
PRODID:-//github.com/rianjs/ical.net//NONSGML ical.net 4.0//EN
VERSION:2.0
BEGIN:VEVENT
DESCRIPTION:Dienstags & Donnerstags zwischen 18:00 und 20:00 Uhr kann dort
  jeder\, sein Fahrrad eigenverantwortlich selbst reparieren - wenn nötig 
 unter Anleitung oder Mithilfe unsere Werkstattteams\nhttps://touren-termi
 ne.adfc.de/radveranstaltung/115570-selbsthilfewerkstatt-ist-geoffnet
DTEND:20240516T180000Z
DTSTAMP:20260424T151333Z
DTSTART:20240516T160000Z
LOCATION:ADFC-Selbsthilfewerkstatt\, Weinweg 2\, 93049 Regensburg
SEQUENCE:0
SUMMARY:Selbsthilfewerkstatt ist geöffnet
UID:e2416180-40ea-4e08-86f4-de708d6534ac
URL:https://touren-termine.adfc.de/radveranstaltung/115570-selbsthilfewerk
 statt-ist-geoffnet
END:VEVENT
END:VCALENDAR
