BEGIN:VCALENDAR
PRODID:-//github.com/rianjs/ical.net//NONSGML ical.net 4.0//EN
VERSION:2.0
BEGIN:VEVENT
DESCRIPTION:Der ADFC Neumünster führt „(E) Bike-Fahrsicherheitskurse“ durc
 h\, die dazu beitragen\, die Fähigkeiten und Fertigkeiten von Pedelec-Fah
 rern und -Fahrerinnen weiter zu entwickeln.\nhttps://touren-termine.adfc.
 de/radveranstaltung/196944-ebikefahrsicherheitstraining
DTEND:20260617T150000Z
DTSTAMP:20260421T073835Z
DTSTART:20260617T120000Z
LOCATION:Färberstraße\, 24534 Neumünster
SEQUENCE:0
SUMMARY:(E)-Bike-Fahrsicherheitstraining
UID:27d7e6ec-a43a-4e75-ad7f-7ab7476d4777
URL:https://touren-termine.adfc.de/radveranstaltung/196944-ebikefahrsicher
 heitstraining
END:VEVENT
END:VCALENDAR
