BEGIN:VCALENDAR
PRODID:-//github.com/rianjs/ical.net//NONSGML ical.net 4.0//EN
VERSION:2.0
BEGIN:VEVENT
DESCRIPTION:Radlertreff in entspannter Atmosphäre\nhttps://touren-termine.
 adfc.de/radveranstaltung/95403-afterwork
DTEND:20230816T200000Z
DTSTAMP:20260424T144235Z
DTSTART:20230816T163000Z
LOCATION:Silberburgstraße 84\, 70176 Stuttgart
SEQUENCE:0
SUMMARY:AfterWork
UID:b0bbb7a8-f7d4-4f06-a5c8-647abe1d1daa
URL:https://touren-termine.adfc.de/radveranstaltung/95403-afterwork
END:VEVENT
END:VCALENDAR
