BEGIN:VCALENDAR
PRODID:-//github.com/rianjs/ical.net//NONSGML ical.net 4.0//EN
VERSION:2.0
BEGIN:VEVENT
DESCRIPTION:Oben bleiben und auf verkehrsarmen Wegen und Straßen durch Wal
 d und Flur zu einem fast geheimen Badevergnügen zwischen den großen Seen.
  Brotzeit mitnehmen!\nhttps://touren-termine.adfc.de/radveranstaltung/156
 450-baden-im-haarsee
DTEND:20250706T140000Z
DTSTAMP:20260425T145517Z
DTSTART:20250706T080000Z
LOCATION:S-Bahnhof Feldafing\, 82340 Landkreis Starnberg
SEQUENCE:0
SUMMARY:Baden im Haarsee
UID:17d04b1f-793a-43ed-b02f-ead608b21df3
URL:https://touren-termine.adfc.de/radveranstaltung/156450-baden-im-haarsee
END:VEVENT
END:VCALENDAR
