BEGIN:VCALENDAR
PRODID:-//github.com/rianjs/ical.net//NONSGML ical.net 4.0//EN
VERSION:2.0
BEGIN:VEVENT
DESCRIPTION:Das Nachtradeln als Demo für eine #Radvolution in der #Verkehr
 swendeJetztEssen\nhttps://touren-termine.adfc.de/radveranstaltung/156103-
 nachtradelndemo-radvolution
DTEND:20250523T210000Z
DTSTAMP:20260421T101056Z
DTSTART:20250523T190000Z
LOCATION:Essen (Innenstadt)\, Willy-Brandt-Platz\, 45127 Essen
SEQUENCE:0
SUMMARY:Nachtradeln-Demo #Radvolution
UID:98d41c1b-759a-4769-99e2-5c569b278fe5
URL:https://touren-termine.adfc.de/radveranstaltung/156103-nachtradelndemo
 -radvolution
END:VEVENT
END:VCALENDAR
