BEGIN:VCALENDAR
PRODID:-//github.com/rianjs/ical.net//NONSGML ical.net 4.0//EN
VERSION:2.0
BEGIN:VEVENT
DESCRIPTION:Lockere Feierabendrunde\nhttps://touren-termine.adfc.de/radver
 anstaltung/196972-tour-am-olchinger-see-vorbei
DTEND:20260723T180000Z
DTSTAMP:20260421T100818Z
DTSTART:20260723T160000Z
LOCATION:Bike & Ride Fahrradparkhaus\, 85221 Dachau
SEQUENCE:0
SUMMARY:Tour am Olchinger See vorbei
UID:d8c2e95f-03dc-4b12-8582-d638bd6296be
URL:https://touren-termine.adfc.de/radveranstaltung/196972-tour-am-olching
 er-see-vorbei
END:VEVENT
END:VCALENDAR
