BEGIN:VCALENDAR
PRODID:-//github.com/rianjs/ical.net//NONSGML ical.net 4.0//EN
VERSION:2.0
BEGIN:VEVENT
DESCRIPTION:Start unserer regelmäßigen Feierabendtouren. Tour um Bad Berle
 burg ca. 1 Stunde. Anschließende Einkehr optional.\nhttps://touren-termin
 e.adfc.de/radveranstaltung/125889-erste-feierabendtour
DTEND:20240312T180000Z
DTSTAMP:20260423T030801Z
DTSTART:20240312T170000Z
LOCATION:Bad Berleburg Bahnhof\, 57319 Bad Berleburg
SEQUENCE:0
SUMMARY:Erste Feierabendtour
UID:a26f5bbf-6e0f-430f-8fae-21913bddb85e
URL:https://touren-termine.adfc.de/radveranstaltung/125889-erste-feieraben
 dtour
END:VEVENT
END:VCALENDAR
