BEGIN:VCALENDAR
PRODID:-//github.com/rianjs/ical.net//NONSGML ical.net 4.0//EN
VERSION:2.0
BEGIN:VEVENT
DESCRIPTION:Wir fahren über Lamstedt und Stinstedt nach Odisheim.\nDort be
 suchen wir das Fest im Mori-Garten.\nNach einer ausdehnten Pause\, fahren
  wir über die Wingst zurück.\nhttps://touren-termine.adfc.de/radveranstal
 tung/151828-auf-zum-morigarten
DTEND:20250518T150000Z
DTSTAMP:20260421T114619Z
DTSTART:20250518T080000Z
LOCATION:Bahnhof\, 21755 Landkreis Cuxhaven
SEQUENCE:0
SUMMARY:Auf zum MORI-Garten
UID:b704fa10-911f-4172-8e27-78be2383eec0
URL:https://touren-termine.adfc.de/radveranstaltung/151828-auf-zum-morigar
 ten
END:VEVENT
END:VCALENDAR
