BEGIN:VCALENDAR
PRODID:-//github.com/rianjs/ical.net//NONSGML ical.net 4.0//EN
VERSION:2.0
BEGIN:VEVENT
DESCRIPTION:Gemütlich Radeln\, mit etwa 14 km/h.\nhttps://touren-termine.a
 dfc.de/radveranstaltung/167620-schnack-aufm-rad
DTEND:20250725T170000Z
DTSTAMP:20260419T181925Z
DTSTART:20250725T150000Z
LOCATION:S-Bahnhof Wedel\, 22880 Wedel
SEQUENCE:0
SUMMARY:Schnack auf'm Rad
UID:38afa6b7-c013-4dfb-8003-0fd1fbd9b06e
URL:https://touren-termine.adfc.de/radveranstaltung/167620-schnack-aufm-rad
END:VEVENT
END:VCALENDAR
