BEGIN:VCALENDAR
PRODID:-//github.com/rianjs/ical.net//NONSGML ical.net 4.0//EN
VERSION:2.0
BEGIN:VEVENT
DESCRIPTION:Regelmäßige Tagestour mit Start in Gauting zu einem naturkundl
 ich\, historisch\, kunsthistorisch oder tagesaktuell interessanten Ziel i
 m Südwesten von München.\nZiel heute:\nhttps://touren-termine.adfc.de/rad
 veranstaltung/188042-unterwegs-im-sudwesten
DTEND:20260521T150000Z
DTSTAMP:20260425T151023Z
DTSTART:20260521T080000Z
LOCATION:Rathaus\, Bahnhofstraße 7\, 82131 Gauting
SEQUENCE:0
SUMMARY:Unterwegs im Südwesten
UID:eabb1f81-a10a-4fd2-b68b-ec5e454063a6
URL:https://touren-termine.adfc.de/radveranstaltung/188042-unterwegs-im-su
 dwesten
END:VEVENT
END:VCALENDAR
