BEGIN:VCALENDAR
PRODID:-//github.com/rianjs/ical.net//NONSGML ical.net 4.0//EN
VERSION:2.0
BEGIN:VEVENT
DESCRIPTION:Niemand ist perfekt\, das Radwegesystem in Cuxhaven schon gar 
 nicht!\nWir unterhalten uns über alle Dinge rund ums Fahrrad und nehmen W
 ünsche und Anregungen an.\nhttps://touren-termine.adfc.de/radveranstaltun
 g/142270-kaffeestunde
DTEND:20251006T150000Z
DTSTAMP:20260421T021225Z
DTSTART:20251006T130000Z
LOCATION:Bürgerbahnhof\, Am Bahnhof 1\, 27472 Cuxhaven
SEQUENCE:0
SUMMARY:Kaffeestunde
UID:37a15c10-4502-4b01-902e-29c93f172313
URL:https://touren-termine.adfc.de/radveranstaltung/142270-kaffeestunde
END:VEVENT
END:VCALENDAR
