BEGIN:VCALENDAR
PRODID:-//github.com/rianjs/ical.net//NONSGML ical.net 4.0//EN
VERSION:2.0
BEGIN:VEVENT
DESCRIPTION:Einkaufstour in den Landkreis Fürth. Es wird auf verschiedenen
  Biohöfen mit typischen Bioprodukten\, aber auch mit einer neuen Lifestyl
 e-Beere\, eingekehrt. Anmeldeschluss 16.04.2026\nhttps://touren-termine.a
 dfc.de/radveranstaltung/191069-frucht-des-ewigen-lebens-u-andere-kostlich
 keiten
DTEND:20260417T153000Z
DTSTAMP:20260423T200937Z
DTSTART:20260417T113000Z
LOCATION:Nürnberg\, U-Bahn-Station Röthenbach\, am Aufzug\, 90449 Nürnberg
SEQUENCE:0
SUMMARY:Frucht des ewigen Lebens u. andere Köstlichkeiten
UID:3bd519b0-b9f6-41be-8dfc-75d4db072d04
URL:https://touren-termine.adfc.de/radveranstaltung/191069-frucht-des-ewig
 en-lebens-u-andere-kostlichkeiten
END:VEVENT
END:VCALENDAR
