BEGIN:VCALENDAR
PRODID:-//github.com/rianjs/ical.net//NONSGML ical.net 4.0//EN
VERSION:2.0
BEGIN:VEVENT
DESCRIPTION:Auf leichten Waldwegen mit überwiegend geringer Steigung wird 
 zur Breitenbachtalsperre gefahren. Dabei umrunden wir den Kindelsberg.\nZ
 urück geht es auf dem Radweg im Ferndorftal.\nhttps://touren-termine.adfc
 .de/radveranstaltung/106703-ebike-feierabendtour-zur-breitenbachtalsperre
DTEND:20230914T180000Z
DTSTAMP:20260422T234436Z
DTSTART:20230914T160000Z
LOCATION:Marburger Straße 6\, Roter Platz\, 57223 Kreuztal
SEQUENCE:0
SUMMARY:E-Bike Feierabendtour zur Breitenbachtalsperre
UID:2e858b8e-7311-4d0c-8f6f-b42f19f5740b
URL:https://touren-termine.adfc.de/radveranstaltung/106703-ebike-feieraben
 dtour-zur-breitenbachtalsperre
END:VEVENT
END:VCALENDAR
