BEGIN:VCALENDAR
PRODID:-//github.com/rianjs/ical.net//NONSGML ical.net 4.0//EN
VERSION:2.0
BEGIN:VEVENT
DESCRIPTION:Sichern Sie ihr Fahrrad oder Pedelec vor Diebstahl. Schützen S
 ie Ihr Eigentum und machen Sie ihre Zweiräder durch die Codierung der Pol
 izei für Diebe "unattraktiv".\nhttps://touren-termine.adfc.de/radveransta
 ltung/125741-fahrradcodierungen-bei-der-polizei-ebstorf
DTEND:20240530T150000Z
DTSTAMP:20260424T161925Z
DTSTART:20240530T110000Z
LOCATION:Lüneburger Straße 17a\, 29574 Ebstorf
SEQUENCE:0
SUMMARY:Fahrradcodierungen bei der Polizei Ebstorf
UID:4285bb8b-abad-478d-abaf-6ba530ad9003
URL:https://touren-termine.adfc.de/radveranstaltung/125741-fahrradcodierun
 gen-bei-der-polizei-ebstorf
END:VEVENT
END:VCALENDAR
