BEGIN:VCALENDAR
PRODID:-//github.com/rianjs/ical.net//NONSGML ical.net 4.0//EN
VERSION:2.0
BEGIN:VEVENT
DESCRIPTION:Wir fahren rheinaufwärts bis zur Insel Grafenwerth bei Bad Hon
 nef. Nach einer Einkehr geht es auf der anderen Rheinseite heimwärts.\nht
 tps://touren-termine.adfc.de/radveranstaltung/89720-sonntagstour-zur-inse
 l-gefanwerth
DTEND:20230625T140000Z
DTSTAMP:20260421T102204Z
DTSTART:20230625T090000Z
LOCATION: Rheidt\, kath. Kirche\, 53859 Niederkassel
SEQUENCE:0
SUMMARY:Sonntagstour zur Insel Gefanwerth
UID:c509a94c-4d82-45b6-a7c7-0b093fd3325b
URL:https://touren-termine.adfc.de/radveranstaltung/89720-sonntagstour-zur
 -insel-gefanwerth
END:VEVENT
END:VCALENDAR
