BEGIN:VCALENDAR
PRODID:-//github.com/rianjs/ical.net//NONSGML ical.net 4.0//EN
VERSION:2.0
BEGIN:VEVENT
DESCRIPTION:Die Bezirksgruppe Altona setzt sich für den Radverkehr in alle
 n Straßen und Stadtteilen von Rissen bis Sternschanze ein.\nhttps://toure
 n-termine.adfc.de/radveranstaltung/102951-bezirksgruppe-altona
DTEND:20240508T190000Z
DTSTAMP:20260421T024243Z
DTSTART:20240508T170000Z
LOCATION:Flavour Court im Othmarscher Tennis-Club\, 22763 Hamburg\, Othmar
 schen
SEQUENCE:0
SUMMARY:Bezirksgruppe Altona
UID:af0f693d-74b2-453e-9619-dab6f3943e59
URL:https://touren-termine.adfc.de/radveranstaltung/102951-bezirksgruppe-a
 ltona
END:VEVENT
END:VCALENDAR
