BEGIN:VCALENDAR
PRODID:-//github.com/rianjs/ical.net//NONSGML ical.net 4.0//EN
VERSION:2.0
BEGIN:VEVENT
DESCRIPTION:Niemand ist perfekt\, das Radwegesystem in Cuxhaven schon gar 
 nicht!\nWir unterhalten uns über alle Dinge rund ums Fahrrad und nehmen W
 ünsche und Anregungen an.\nhttps://touren-termine.adfc.de/radveranstaltun
 g/142247-kaffeestunde
DTEND:20250428T150000Z
DTSTAMP:20260421T020325Z
DTSTART:20250428T130000Z
LOCATION:Bürgerbahnhof\, Am Bahnhof 1\, 27472 Cuxhaven
SEQUENCE:0
SUMMARY:Kaffeestunde
UID:98040ef7-501a-4279-96e7-0548c827a5fd
URL:https://touren-termine.adfc.de/radveranstaltung/142247-kaffeestunde
END:VEVENT
END:VCALENDAR
