BEGIN:VCALENDAR
PRODID:-//github.com/rianjs/ical.net//NONSGML ical.net 4.0//EN
VERSION:2.0
BEGIN:VEVENT
DESCRIPTION:Feierabendtour 33 km\nGBW-KBW-WTM-Hastbruch\nDasselsbruch-Groß
 moor\nEhlershausen-WTM-THO-GBW\nhttps://touren-termine.adfc.de/radveranst
 altung/142584-kurztour-33kmwtmhastbruchdasselsbruch
DTEND:20250521T180000Z
DTSTAMP:20260423T105803Z
DTSTART:20250521T160000Z
LOCATION:Rathaus\, Fuhrberger Straße 3\, 30938 Burgwedel
SEQUENCE:0
SUMMARY:Kurztour 33_km_WTM-Hastbruch-Dasselsbruch
UID:5c408e24-dd45-44d7-a03f-915743972b9f
URL:https://touren-termine.adfc.de/radveranstaltung/142584-kurztour-33kmwt
 mhastbruchdasselsbruch
END:VEVENT
END:VCALENDAR
