BEGIN:VCALENDAR
PRODID:-//github.com/rianjs/ical.net//NONSGML ical.net 4.0//EN
VERSION:2.0
BEGIN:VEVENT
DESCRIPTION:Unsere Geschäftsstelle ist für alle Anliegen und offenen Frage
 n geöffnet.\nhttps://touren-termine.adfc.de/radveranstaltung/147869-offnu
 ngszeit-unserer-geschaftsstelle
DTEND:20250320T170000Z
DTSTAMP:20260421T121314Z
DTSTART:20250320T150000Z
LOCATION:Essen (Innenstadt)\, ADFC Essen Geschäftsstelle\, Rottstraße 5\, 
 45127 Essen
SEQUENCE:0
SUMMARY:Öffnungszeit unserer Geschäftsstelle
UID:36ec791b-ea7e-4a99-8de1-80e3e463b96c
URL:https://touren-termine.adfc.de/radveranstaltung/147869-offnungszeit-un
 serer-geschaftsstelle
END:VEVENT
END:VCALENDAR
