BEGIN:VCALENDAR
PRODID:-//github.com/rianjs/ical.net//NONSGML ical.net 4.0//EN
VERSION:2.0
BEGIN:VEVENT
DESCRIPTION:Feierabendtouren in die nähere Umgebung\, Distanz 20 - 30 km\,
  oft mit Einkehr.\nhttps://touren-termine.adfc.de/radveranstaltung/152572
 -gilchinger-feierabendtour-herbst
DTEND:20251017T170000Z
DTSTAMP:20260425T145709Z
DTSTART:20251017T140000Z
LOCATION:Marktplatz\, 82205 Gilching
SEQUENCE:0
SUMMARY:Gilchinger Feierabendtour Herbst
UID:042b7558-c1d2-4f8c-ae44-e84b308f0a7a
URL:https://touren-termine.adfc.de/radveranstaltung/152572-gilchinger-feie
 rabendtour-herbst
END:VEVENT
END:VCALENDAR
